BEGIN:VCALENDAR
VERSION:2.0
PRODID:-//Angela MacKenzie - ECPv6.15.20//NONSGML v1.0//EN
CALSCALE:GREGORIAN
METHOD:PUBLISH
X-ORIGINAL-URL:https://angela.org
X-WR-CALDESC:Events for Angela MacKenzie
REFRESH-INTERVAL;VALUE=DURATION:PT1H
X-Robots-Tag:noindex
X-PUBLISHED-TTL:PT1H
BEGIN:VTIMEZONE
TZID:Atlantic/Azores
BEGIN:DAYLIGHT
TZOFFSETFROM:-0100
TZOFFSETTO:+0000
TZNAME:+00
DTSTART:20250330T010000
END:DAYLIGHT
BEGIN:STANDARD
TZOFFSETFROM:+0000
TZOFFSETTO:-0100
TZNAME:-01
DTSTART:20251026T010000
END:STANDARD
BEGIN:DAYLIGHT
TZOFFSETFROM:-0100
TZOFFSETTO:+0000
TZNAME:+00
DTSTART:20260329T010000
END:DAYLIGHT
BEGIN:STANDARD
TZOFFSETFROM:+0000
TZOFFSETTO:-0100
TZNAME:-01
DTSTART:20261025T010000
END:STANDARD
BEGIN:DAYLIGHT
TZOFFSETFROM:-0100
TZOFFSETTO:+0000
TZNAME:+00
DTSTART:20270328T010000
END:DAYLIGHT
BEGIN:STANDARD
TZOFFSETFROM:+0000
TZOFFSETTO:-0100
TZNAME:-01
DTSTART:20271031T010000
END:STANDARD
END:VTIMEZONE
BEGIN:VTIMEZONE
TZID:UTC
BEGIN:STANDARD
TZOFFSETFROM:+0000
TZOFFSETTO:+0000
TZNAME:UTC
DTSTART:20250101T000000
END:STANDARD
END:VTIMEZONE
BEGIN:VEVENT
DTSTART;TZID=Atlantic/Azores:20260601T190000
DTEND;TZID=Atlantic/Azores:20260601T203000
DTSTAMP:20260422T134230
CREATED:20260129T152259Z
LAST-MODIFIED:20260129T152259Z
UID:10000632-1780340400-1780345800@angela.org
SUMMARY:Amazing Life Gospel Choir Rehearsal
DESCRIPTION:Amazing Life Gospel Choir rehearsal (all invited)\nCornerstone Church\,\nCastle Road Offices\nStirling
URL:https://angela.org/event/amazing-life-gospel-choir-rehearsal-11-2/2026-06-01/
LOCATION:Cornerstone Church\, Stirling
CATEGORIES:Amazing Life Gospel Choir
ATTACH;FMTTYPE=image/png:https://angela.org/wp-content/uploads/2025/03/logo.png
END:VEVENT
BEGIN:VEVENT
DTSTART;TZID=UTC:20260607T210000
DTEND;TZID=UTC:20260607T213000
DTSTAMP:20260422T134230
CREATED:20250120T011554Z
LAST-MODIFIED:20250404T134038Z
UID:10000375-1780866000-1780867800@angela.org
SUMMARY:Praise Around The Piano
DESCRIPTION:Join me every Sunday for Praise Around the Piano\, a heartfelt time of worship\, reflection\, and connection. Streaming from my home in Scotland\, I invite you to gather around the piano as I lead in timeless hymns\, uplifting gospel favorites\, and inspiring moments of Scripture. Whether you’re singing along or simply listening in\, this weekly program is designed to draw hearts closer to God\, celebrate His goodness\, and foster a sense of community no matter where you are. Let the music and message of hope renew your spirit as we worship together. \nJoin on Facebook \nJoin on YouTube
URL:https://angela.org/event/praise-around-the-piano-17/2026-06-07/
CATEGORIES:Praise Around the Piano
ATTACH;FMTTYPE=image/png:https://angela.org/wp-content/uploads/2025/01/patp_superchannel_banner-shorter.png
END:VEVENT
BEGIN:VEVENT
DTSTART;TZID=UTC:20260614T210000
DTEND;TZID=UTC:20260614T213000
DTSTAMP:20260422T134230
CREATED:20250120T011554Z
LAST-MODIFIED:20250404T134038Z
UID:10000376-1781470800-1781472600@angela.org
SUMMARY:Praise Around The Piano
DESCRIPTION:Join me every Sunday for Praise Around the Piano\, a heartfelt time of worship\, reflection\, and connection. Streaming from my home in Scotland\, I invite you to gather around the piano as I lead in timeless hymns\, uplifting gospel favorites\, and inspiring moments of Scripture. Whether you’re singing along or simply listening in\, this weekly program is designed to draw hearts closer to God\, celebrate His goodness\, and foster a sense of community no matter where you are. Let the music and message of hope renew your spirit as we worship together. \nJoin on Facebook \nJoin on YouTube
URL:https://angela.org/event/praise-around-the-piano-17/2026-06-14/
CATEGORIES:Praise Around the Piano
ATTACH;FMTTYPE=image/png:https://angela.org/wp-content/uploads/2025/01/patp_superchannel_banner-shorter.png
END:VEVENT
BEGIN:VEVENT
DTSTART;TZID=UTC:20260621T210000
DTEND;TZID=UTC:20260621T213000
DTSTAMP:20260422T134230
CREATED:20250120T011554Z
LAST-MODIFIED:20250404T134038Z
UID:10000377-1782075600-1782077400@angela.org
SUMMARY:Praise Around The Piano
DESCRIPTION:Join me every Sunday for Praise Around the Piano\, a heartfelt time of worship\, reflection\, and connection. Streaming from my home in Scotland\, I invite you to gather around the piano as I lead in timeless hymns\, uplifting gospel favorites\, and inspiring moments of Scripture. Whether you’re singing along or simply listening in\, this weekly program is designed to draw hearts closer to God\, celebrate His goodness\, and foster a sense of community no matter where you are. Let the music and message of hope renew your spirit as we worship together. \nJoin on Facebook \nJoin on YouTube
URL:https://angela.org/event/praise-around-the-piano-17/2026-06-21/
CATEGORIES:Praise Around the Piano
ATTACH;FMTTYPE=image/png:https://angela.org/wp-content/uploads/2025/01/patp_superchannel_banner-shorter.png
END:VEVENT
BEGIN:VEVENT
DTSTART;TZID=UTC:20260628T210000
DTEND;TZID=UTC:20260628T213000
DTSTAMP:20260422T134230
CREATED:20250120T011554Z
LAST-MODIFIED:20250404T134038Z
UID:10000378-1782680400-1782682200@angela.org
SUMMARY:Praise Around The Piano
DESCRIPTION:Join me every Sunday for Praise Around the Piano\, a heartfelt time of worship\, reflection\, and connection. Streaming from my home in Scotland\, I invite you to gather around the piano as I lead in timeless hymns\, uplifting gospel favorites\, and inspiring moments of Scripture. Whether you’re singing along or simply listening in\, this weekly program is designed to draw hearts closer to God\, celebrate His goodness\, and foster a sense of community no matter where you are. Let the music and message of hope renew your spirit as we worship together. \nJoin on Facebook \nJoin on YouTube
URL:https://angela.org/event/praise-around-the-piano-17/2026-06-28/
CATEGORIES:Praise Around the Piano
ATTACH;FMTTYPE=image/png:https://angela.org/wp-content/uploads/2025/01/patp_superchannel_banner-shorter.png
END:VEVENT
END:VCALENDAR